BEGIN:VCALENDAR
VERSION:2.0
PRODID:-//Protac - ECPv6.7.0//NONSGML v1.0//EN
CALSCALE:GREGORIAN
METHOD:PUBLISH
X-WR-CALNAME:Protac
X-ORIGINAL-URL:https://drugdiscoverypro.com
X-WR-CALDESC:Events for Protac
REFRESH-INTERVAL;VALUE=DURATION:PT1H
X-Robots-Tag:noindex
X-PUBLISHED-TTL:PT1H
BEGIN:VTIMEZONE
TZID:UTC
BEGIN:STANDARD
TZOFFSETFROM:+0000
TZOFFSETTO:+0000
TZNAME:UTC
DTSTART:20230101T000000
END:STANDARD
END:VTIMEZONE
BEGIN:VEVENT
DTSTART;TZID=UTC:20230930T180000
DTEND;TZID=UTC:20230930T200000
DTSTAMP:20260423T132014
CREATED:20230730T130222Z
LAST-MODIFIED:20230801T115311Z
UID:4204-1696096800-1696104000@drugdiscoverypro.com
SUMMARY:Drugathon 2023
DESCRIPTION:Drugathon is an initiation that aims to gather seasoned drug discoverers and designers on a definite research goal targeting the identification of novel drug candidates to combat rare and serious diseases.   Agenda:Eligibility and the research scope for the application.\n\nBenchmark of applicants’ selection.\n\nDrugathon 2023 highlights.\n\nTerms and conditions.\n\nWhat are the Drugathon’s expected outcomes?
URL:https://drugdiscoverypro.com/event/drugathon-2023/
ATTACH;FMTTYPE=image/jpeg:https://drugdiscoverypro.com/wp-content/uploads/2023/07/news-1.jpg
END:VEVENT
END:VCALENDAR