BEGIN:VCALENDAR
VERSION:2.0
PRODID:-//Protac - ECPv6.7.0//NONSGML v1.0//EN
CALSCALE:GREGORIAN
METHOD:PUBLISH
X-ORIGINAL-URL:https://drugdiscoverypro.com
X-WR-CALDESC:Events for Protac
REFRESH-INTERVAL;VALUE=DURATION:PT1H
X-Robots-Tag:noindex
X-PUBLISHED-TTL:PT1H
BEGIN:VTIMEZONE
TZID:UTC
BEGIN:STANDARD
TZOFFSETFROM:+0000
TZOFFSETTO:+0000
TZNAME:UTC
DTSTART:20230101T000000
END:STANDARD
END:VTIMEZONE
BEGIN:VEVENT
DTSTART;TZID=UTC:20230916T180000
DTEND;TZID=UTC:20230916T190000
DTSTAMP:20260423T145020
CREATED:20230730T125808Z
LAST-MODIFIED:20230730T131425Z
UID:4202-1694887200-1694890800@drugdiscoverypro.com
SUMMARY:Molecular Transformation: When & How to Use?
DESCRIPTION:Molecular Transformation: When & How to Use? Agenda:Purpose of Molecular transformation.\n\nWhen the molecular transformation is applied?\n\nHow to manipulate the strategies and computational tools with molecular transformation?
URL:https://drugdiscoverypro.com/event/molecular-transformation-when-how-to-use/
ATTACH;FMTTYPE=image/jpeg:https://drugdiscoverypro.com/wp-content/uploads/2023/07/product-5.jpg
END:VEVENT
END:VCALENDAR